BEGIN:VCALENDAR
VERSION:2.0
PRODID:-//The Club, Huntly - ECPv4.6.9//NONSGML v1.0//EN
CALSCALE:GREGORIAN
METHOD:PUBLISH
X-WR-CALNAME:The Club, Huntly
X-ORIGINAL-URL:http://huntlywc.co.nz
X-WR-CALDESC:Events for The Club, Huntly
BEGIN:VEVENT
DTSTART;TZID=Pacific/Auckland:20170816T170000
DTEND;TZID=Pacific/Auckland:20170816T190000
DTSTAMP:20180122T071503
CREATED:20170814T002947Z
LAST-MODIFIED:20170814T002947Z
UID:530-1502902800-1502910000@huntlywc.co.nz
SUMMARY:Batons Up\, Raffles and Weekly Membership Draw
DESCRIPTION:Come on down to The Club \nEvery Wednesday for Batons Up\, Raffles\, Weekly Membership Card Draw and Bar tab draws \nThe Kitchen is also open for meals from 5.30pm \nCome on down and enjoy the atmosphere and try your luck! \n
URL:http://huntlywc.co.nz/event/batons-up-raffles-and-weekly-membership-draw/
CATEGORIES:Batons Up,Weekly Social Events
END:VEVENT
END:VCALENDAR