BEGIN:VCALENDAR
VERSION:2.0
PRODID:-//The Club, Huntly - ECPv4.6.9//NONSGML v1.0//EN
CALSCALE:GREGORIAN
METHOD:PUBLISH
X-WR-CALNAME:The Club, Huntly
X-ORIGINAL-URL:http://huntlywc.co.nz
X-WR-CALDESC:Events for The Club, Huntly
BEGIN:VEVENT
DTSTART;TZID=Pacific/Auckland:20170816T193000
DTEND;TZID=Pacific/Auckland:20170816T210000
DTSTAMP:20180122T071008
CREATED:20170812T205522Z
LAST-MODIFIED:20170812T205733Z
UID:507-1502911800-1502917200@huntlywc.co.nz
SUMMARY:Huntly Line Dancing Classes
DESCRIPTION:JOIN US TONIGHT FOR SOME TOE-TAPPING FUN –\nYEE-HAA!!!\nHUNTLY LINEDANCING CLUB – BEGINNERS CLASS\n– FIRST CLASS FREE!!! – (then $5 per session)\nat the HUNTLY WORKINGMENS CLUB – Glasgow St – Huntly\nEVERY Wednesday night – 7:30pm – 9:00pm\n* Come along & have some fun!\n* Great exercise!\n* Improves your confidence\, balance\, coordination &\nwell-being!\nFor any enquiries please phone Pauline – 027 363 8498 or Bronwyn – 021 214 1693 \n
URL:http://huntlywc.co.nz/event/huntly-line-dancing-classes/
CATEGORIES:Line Dancing,Social Dancing,Weekly Social Events
END:VEVENT
END:VCALENDAR